BEGIN:VCALENDAR
VERSION:2.0
PRODID:-//euregio-cup (DE) - ECPv6.15.17.1//NONSGML v1.0//EN
CALSCALE:GREGORIAN
METHOD:PUBLISH
X-ORIGINAL-URL:https://euregio-cup.eu/de
X-WR-CALDESC:Veranstaltungen für euregio-cup (DE)
REFRESH-INTERVAL;VALUE=DURATION:PT1H
X-Robots-Tag:noindex
X-PUBLISHED-TTL:PT1H
BEGIN:VTIMEZONE
TZID:UTC
BEGIN:STANDARD
TZOFFSETFROM:+0000
TZOFFSETTO:+0000
TZNAME:UTC
DTSTART:20250101T000000
END:STANDARD
END:VTIMEZONE
BEGIN:VEVENT
DTSTART;TZID=UTC:20260111T101500
DTEND;TZID=UTC:20260111T130000
DTSTAMP:20260420T120029
CREATED:20260202T194353Z
LAST-MODIFIED:20260309T180408Z
UID:291-1768126500-1768136400@euregio-cup.eu
SUMMARY:abgesagt.
DESCRIPTION:
URL:https://euregio-cup.eu/de/event/abgesagt-2/
END:VEVENT
END:VCALENDAR