BEGIN:VCALENDAR
VERSION:2.0
PRODID:-//euregio-cup (DE) - ECPv6.15.17.1//NONSGML v1.0//EN
CALSCALE:GREGORIAN
METHOD:PUBLISH
X-ORIGINAL-URL:https://euregio-cup.eu/de
X-WR-CALDESC:Veranstaltungen für euregio-cup (DE)
REFRESH-INTERVAL;VALUE=DURATION:PT1H
X-Robots-Tag:noindex
X-PUBLISHED-TTL:PT1H
BEGIN:VTIMEZONE
TZID:UTC
BEGIN:STANDARD
TZOFFSETFROM:+0000
TZOFFSETTO:+0000
TZNAME:UTC
DTSTART:20230101T000000
END:STANDARD
END:VTIMEZONE
BEGIN:VEVENT
DTSTART;TZID=UTC:20240121T103000
DTEND;TZID=UTC:20240121T130000
DTSTAMP:20260421T194523
CREATED:20231114T202133Z
LAST-MODIFIED:20231222T083434Z
UID:25-1705833000-1705842000@euregio-cup.eu
SUMMARY:3. Runde
DESCRIPTION:Sonntag\, 21. Januar 2024\, 10.15-13.00 Uhr. Alle Spieler müssen spätestens um 10.15 Uhr anwesend sein.\nSint-Lambertuscollege (SLC)\, Sint-Lambertuslaan 15\, Bilzen (Belgien).\nParkmöglichkeiten sind auf den Parkplätzen beim Gebäude vorhanden.
URL:https://euregio-cup.eu/de/event/3e-runde/
END:VEVENT
END:VCALENDAR