BEGIN:VCALENDAR
VERSION:2.0
PRODID:-//euregio-cup (DE) - ECPv6.15.17.1//NONSGML v1.0//EN
CALSCALE:GREGORIAN
METHOD:PUBLISH
X-ORIGINAL-URL:https://euregio-cup.eu/de
X-WR-CALDESC:Veranstaltungen für euregio-cup (DE)
REFRESH-INTERVAL;VALUE=DURATION:PT1H
X-Robots-Tag:noindex
X-PUBLISHED-TTL:PT1H
BEGIN:VTIMEZONE
TZID:UTC
BEGIN:STANDARD
TZOFFSETFROM:+0000
TZOFFSETTO:+0000
TZNAME:UTC
DTSTART:20230101T000000
END:STANDARD
END:VTIMEZONE
BEGIN:VEVENT
DTSTART;TZID=UTC:20240526T101500
DTEND;TZID=UTC:20240526T130000
DTSTAMP:20260421T140129
CREATED:20231114T203123Z
LAST-MODIFIED:20240319T192747Z
UID:38-1716718500-1716728400@euregio-cup.eu
SUMMARY:6. Runde
DESCRIPTION:Ontmoetingscentrum Het Park (CC Oost) in Houthalen-Oost. \nDer Eingang befindet sich in der Vlierboomstraat!
URL:https://euregio-cup.eu/de/event/6-runde/
END:VEVENT
END:VCALENDAR