BEGIN:VCALENDAR
VERSION:2.0
PRODID:-//euregio-cup (DE) - ECPv6.15.17.1//NONSGML v1.0//EN
CALSCALE:GREGORIAN
METHOD:PUBLISH
X-ORIGINAL-URL:https://euregio-cup.eu/de
X-WR-CALDESC:Veranstaltungen für euregio-cup (DE)
REFRESH-INTERVAL;VALUE=DURATION:PT1H
X-Robots-Tag:noindex
X-PUBLISHED-TTL:PT1H
BEGIN:VTIMEZONE
TZID:UTC
BEGIN:STANDARD
TZOFFSETFROM:+0000
TZOFFSETTO:+0000
TZNAME:UTC
DTSTART:20230101T000000
END:STANDARD
END:VTIMEZONE
BEGIN:VEVENT
DTSTART;TZID=UTC:20241110T101500
DTEND;TZID=UTC:20241110T130000
DTSTAMP:20260421T062401
CREATED:20241008T201310Z
LAST-MODIFIED:20250224T192930Z
UID:148-1731233700-1731243600@euregio-cup.eu
SUMMARY:2. Runde (2024-2025)
DESCRIPTION:
URL:https://euregio-cup.eu/de/event/2-runde-2024-2025/
LOCATION:Pfarrheim St. Marien\, Herzogenrath\, Kleikstraße 56\, Herzogenrath\, nrw\, 52134\, Germany
END:VEVENT
END:VCALENDAR