BEGIN:VCALENDAR
VERSION:2.0
PRODID:-//euregio-cup (DE) - ECPv6.15.17.1//NONSGML v1.0//EN
CALSCALE:GREGORIAN
METHOD:PUBLISH
X-ORIGINAL-URL:https://euregio-cup.eu/de
X-WR-CALDESC:Veranstaltungen für euregio-cup (DE)
REFRESH-INTERVAL;VALUE=DURATION:PT1H
X-Robots-Tag:noindex
X-PUBLISHED-TTL:PT1H
BEGIN:VTIMEZONE
TZID:UTC
BEGIN:STANDARD
TZOFFSETFROM:+0000
TZOFFSETTO:+0000
TZNAME:UTC
DTSTART:20240101T000000
END:STANDARD
END:VTIMEZONE
BEGIN:VEVENT
DTSTART;TZID=UTC:20250223T101500
DTEND;TZID=UTC:20250223T130000
DTSTAMP:20260421T021102
CREATED:20241008T201311Z
LAST-MODIFIED:20250224T192930Z
UID:151-1740305700-1740315600@euregio-cup.eu
SUMMARY:5. Runde (2024-2025)
DESCRIPTION:
URL:https://euregio-cup.eu/de/event/5-runde-2024-2025/
LOCATION:Cultureel Centrum De Kimpel\, Eikenlaan 25\, Bilzen\, 3740\, Belgium
END:VEVENT
END:VCALENDAR